BEGIN:VCALENDAR
VERSION:2.0
PRODID:-//Mondragon.fr - ECPv6.15.20//NONSGML v1.0//EN
CALSCALE:GREGORIAN
METHOD:PUBLISH
X-WR-CALNAME:Mondragon.fr
X-ORIGINAL-URL:https://mondragon.fr
X-WR-CALDESC:Évènements pour Mondragon.fr
REFRESH-INTERVAL;VALUE=DURATION:PT1H
X-Robots-Tag:noindex
X-PUBLISHED-TTL:PT1H
BEGIN:VTIMEZONE
TZID:Europe/Paris
BEGIN:DAYLIGHT
TZOFFSETFROM:+0100
TZOFFSETTO:+0200
TZNAME:CEST
DTSTART:20250330T010000
END:DAYLIGHT
BEGIN:STANDARD
TZOFFSETFROM:+0200
TZOFFSETTO:+0100
TZNAME:CET
DTSTART:20251026T010000
END:STANDARD
BEGIN:DAYLIGHT
TZOFFSETFROM:+0100
TZOFFSETTO:+0200
TZNAME:CEST
DTSTART:20260329T010000
END:DAYLIGHT
BEGIN:STANDARD
TZOFFSETFROM:+0200
TZOFFSETTO:+0100
TZNAME:CET
DTSTART:20261025T010000
END:STANDARD
BEGIN:DAYLIGHT
TZOFFSETFROM:+0100
TZOFFSETTO:+0200
TZNAME:CEST
DTSTART:20270328T010000
END:DAYLIGHT
BEGIN:STANDARD
TZOFFSETFROM:+0200
TZOFFSETTO:+0100
TZNAME:CET
DTSTART:20271031T010000
END:STANDARD
END:VTIMEZONE
BEGIN:VEVENT
DTSTART;TZID=Europe/Paris:20260311T103000
DTEND;TZID=Europe/Paris:20260311T120000
DTSTAMP:20260425T030537
CREATED:20260223T104255Z
LAST-MODIFIED:20260223T104255Z
UID:288242-1773225000-1773230400@mondragon.fr
SUMMARY:RACONTE-MOI UNE HISTOIRE - RÉSEAU DE LECTURE PUBLIQUE INTERCOMMUNAL
DESCRIPTION:Screenshot
URL:https://mondragon.fr/evenement/raconte-moi-une-histoire-reseau-de-lecture-publique-intercommunal-4/
LOCATION:Bibliothèque de Mondragon
ATTACH;FMTTYPE=image/jpeg:https://mondragon.fr/wp-content/uploads/2026/02/IMG_3604.jpg
END:VEVENT
BEGIN:VEVENT
DTSTART;TZID=Europe/Paris:20260311T110000
DTEND;TZID=Europe/Paris:20260311T113000
DTSTAMP:20260425T030537
CREATED:20260211T083634Z
LAST-MODIFIED:20260211T083634Z
UID:288162-1773226800-1773228600@mondragon.fr
SUMMARY:CÉRÉMONIE D'HOMMAGE AUX VICTIMES DU TERRORISME
DESCRIPTION:
URL:https://mondragon.fr/evenement/ceremonie-dhommage-aux-victimes-du-terrorisme/
LOCATION:Monument aux morts\, place Vignard Mondragon
ATTACH;FMTTYPE=image/jpeg:https://mondragon.fr/wp-content/uploads/2026/02/commemoration-victime-terrorisme.jpg
END:VEVENT
END:VCALENDAR