BEGIN:VCALENDAR
VERSION:2.0
PRODID:-//Mondragon.fr - ECPv6.15.20//NONSGML v1.0//EN
CALSCALE:GREGORIAN
METHOD:PUBLISH
X-ORIGINAL-URL:https://mondragon.fr
X-WR-CALDESC:Évènements pour Mondragon.fr
REFRESH-INTERVAL;VALUE=DURATION:PT1H
X-Robots-Tag:noindex
X-PUBLISHED-TTL:PT1H
BEGIN:VTIMEZONE
TZID:Europe/Paris
BEGIN:DAYLIGHT
TZOFFSETFROM:+0100
TZOFFSETTO:+0200
TZNAME:CEST
DTSTART:20250330T010000
END:DAYLIGHT
BEGIN:STANDARD
TZOFFSETFROM:+0200
TZOFFSETTO:+0100
TZNAME:CET
DTSTART:20251026T010000
END:STANDARD
BEGIN:DAYLIGHT
TZOFFSETFROM:+0100
TZOFFSETTO:+0200
TZNAME:CEST
DTSTART:20260329T010000
END:DAYLIGHT
BEGIN:STANDARD
TZOFFSETFROM:+0200
TZOFFSETTO:+0100
TZNAME:CET
DTSTART:20261025T010000
END:STANDARD
BEGIN:DAYLIGHT
TZOFFSETFROM:+0100
TZOFFSETTO:+0200
TZNAME:CEST
DTSTART:20270328T010000
END:DAYLIGHT
BEGIN:STANDARD
TZOFFSETFROM:+0200
TZOFFSETTO:+0100
TZNAME:CET
DTSTART:20271031T010000
END:STANDARD
END:VTIMEZONE
BEGIN:VEVENT
DTSTART;TZID=Europe/Paris:20260316T140000
DTEND;TZID=Europe/Paris:20260316T170000
DTSTAMP:20260425T014733
CREATED:20260216T080442Z
LAST-MODIFIED:20260216T080442Z
UID:288204-1773669600-1773680400@mondragon.fr
SUMMARY:POINT INFORMATION AMÉLIORATION DE L'HABITAT - SOLiHA
DESCRIPTION:
URL:https://mondragon.fr/evenement/point-information-amelioration-de-lhabitat-soliha-2/
LOCATION:Mairie de Mondragon
ATTACH;FMTTYPE=image/jpeg:https://mondragon.fr/wp-content/uploads/2026/02/original.jpg-SOLIHA.jpg
END:VEVENT
END:VCALENDAR