BEGIN:VCALENDAR
VERSION:2.0
PRODID:-//Mondragon.fr - ECPv6.15.20//NONSGML v1.0//EN
CALSCALE:GREGORIAN
METHOD:PUBLISH
X-ORIGINAL-URL:https://mondragon.fr
X-WR-CALDESC:Évènements pour Mondragon.fr
REFRESH-INTERVAL;VALUE=DURATION:PT1H
X-Robots-Tag:noindex
X-PUBLISHED-TTL:PT1H
BEGIN:VTIMEZONE
TZID:Europe/Paris
BEGIN:DAYLIGHT
TZOFFSETFROM:+0100
TZOFFSETTO:+0200
TZNAME:CEST
DTSTART:20250330T010000
END:DAYLIGHT
BEGIN:STANDARD
TZOFFSETFROM:+0200
TZOFFSETTO:+0100
TZNAME:CET
DTSTART:20251026T010000
END:STANDARD
BEGIN:DAYLIGHT
TZOFFSETFROM:+0100
TZOFFSETTO:+0200
TZNAME:CEST
DTSTART:20260329T010000
END:DAYLIGHT
BEGIN:STANDARD
TZOFFSETFROM:+0200
TZOFFSETTO:+0100
TZNAME:CET
DTSTART:20261025T010000
END:STANDARD
BEGIN:DAYLIGHT
TZOFFSETFROM:+0100
TZOFFSETTO:+0200
TZNAME:CEST
DTSTART:20270328T010000
END:DAYLIGHT
BEGIN:STANDARD
TZOFFSETFROM:+0200
TZOFFSETTO:+0100
TZNAME:CET
DTSTART:20271031T010000
END:STANDARD
END:VTIMEZONE
BEGIN:VEVENT
DTSTART;TZID=Europe/Paris:20260422T133000
DTEND;TZID=Europe/Paris:20260430T170000
DTSTAMP:20260424T231902
CREATED:20260414T060438Z
LAST-MODIFIED:20260416T114921Z
UID:289184-1776864600-1777568400@mondragon.fr
SUMMARY:INFOS DÉCHÈTERIES INTERCOMMUNALES
DESCRIPTION:
URL:https://mondragon.fr/evenement/infos-decheterie/
LOCATION:Déchèterie Intercommunale\, Centre de valorisation ’\, ZA Notre Dame à Mondragon
ATTACH;FMTTYPE=image/jpeg:https://mondragon.fr/wp-content/uploads/2026/04/Info-decheterie-avirl-2026_page-0001.jpg
END:VEVENT
BEGIN:VEVENT
DTSTART;TZID=Europe/Paris:20260429T100000
DTEND;TZID=Europe/Paris:20260429T120000
DTSTAMP:20260424T231902
CREATED:20260416T142516Z
LAST-MODIFIED:20260416T142516Z
UID:289262-1777456800-1777464000@mondragon.fr
SUMMARY:LES P'TITS EXPLORATEURS MONDRAGONNAIS
DESCRIPTION:🌿✨ Partez à la découverte de Mondragon ! ✨🌿 \nEnvie d’une sortie conviviale et enrichissante ? Rejoignez-nous pour une visite guidée d’une durée de 1h30 ! \n📍 Inscriptions auprès de l’Office de Tourisme\n👨‍👩‍👧‍👦 Les enfants doivent être accompagnés d’un adulte\n👥 Nombre de places limité à 20 personnes \n⏰ Rendez-vous à la Fontaine de la Main à Mondragon\, 15 minutes avant le départ \n📌 Office de Tourisme Intercommunal\nRond Point des Portes de Provence\n84500 Bollène\n📞 04 90 30 36 83\n🌐 www.provencecoterhone-tourisme.com \n👉 Facebook : @provencecoterhonetourisme\n👉 Instagram : @provencecoterhone \n#SortieNature #Mondragon #Provence #TourismeLocal #Balade #Découverte \n 
URL:https://mondragon.fr/evenement/les-ptits-explorateurs-mondragonnais/
LOCATION:Fontaine de la Main ( à l’entrée de Mondragon)
ATTACH;FMTTYPE=image/jpeg:https://mondragon.fr/wp-content/uploads/2026/04/Ptit-explorateur-Bollene-8_page-0001.jpg
END:VEVENT
END:VCALENDAR